BEGIN:VCALENDAR
VERSION:2.0
PRODID:-//ChamberMaster//Event Calendar 2.0//EN
METHOD:PUBLISH
X-PUBLISHED-TTL:P3D
REFRESH-INTERVAL:P3D
CALSCALE:GREGORIAN
BEGIN:VEVENT
DTSTART:20250207T130000Z
DTEND:20250207T140000Z
X-MICROSOFT-CDO-ALLDAYEVENT:FALSE
SUMMARY:Third House Session
DESCRIPTION:Hosted by the Greater Kokomo Chamber of Commerce\, and sponsored by NIPSCO\, Third House Sessions provide a forum for Chamber and community members to discuss pending legislation in the Indiana General Assembly with their elected representatives. During these sessions\, state legislators will address current issues before the General Assembly that impact our community and businesses.\n\n\n\nThe following state legislators have been invited to attend:\n\n\n	Mike Karickhoff\, House District 30\n	Heath VanNatter\, House District 38\n	Stacey Donato\, Senate District 18\n	Jim Buck\, Senate District 21\n\nThis event is open the public and is  hosted at Indiana University Kokomo's Kresge Auditorium.
X-ALT-DESC;FMTTYPE=text/html:<p style="box-sizing: border-box\; margin-top: 0px\; margin-bottom: 1rem\; color: rgb(128\, 128\, 128)\; font-family: Arial\, Helvetica\, sans-serif\;"><br />\n<br />\n<span style="box-sizing: border-box\; color: rgb(51\, 51\, 51)\;"><span style="box-sizing: border-box\; font-size: 24px\;">Hosted by the Greater Kokomo Chamber of Commerce\, and sponsored by NIPSCO\,&nbsp\;Third House Sessions provide a forum for Chamber and community members to discuss pending legislation in the Indiana General Assembly with their elected representatives. During these sessions\, state legislators will address current issues before the General Assembly that impact our community and businesses.</span></span><br style="box-sizing: border-box\;" />\n<br style="box-sizing: border-box\;" />\n<span style="color:#000000\;"><span style="box-sizing: border-box\;"><span style="box-sizing: border-box\; font-size: 24px\;">The following state legislators have been invited to attend:</span></span></span></p>\n\n<ul style="box-sizing: border-box\; margin-top: 0px\; margin-bottom: 1rem\; color: rgb(128\, 128\, 128)\; font-family: Arial\, Helvetica\, sans-serif\; outline: 0px\;">\n	<li style="box-sizing: border-box\; margin: 0px\;"><span style="color:#000000\;"><span style="box-sizing: border-box\;"><span style="box-sizing: border-box\; font-size: 24px\;">Mike Karickhoff\, House District 30</span></span></span></li>\n	<li style="box-sizing: border-box\; margin: 0px\;"><span style="color:#000000\;"><span style="box-sizing: border-box\;"><span style="box-sizing: border-box\; font-size: 24px\;">Heath VanNatter\, House District 38</span></span></span></li>\n	<li style="box-sizing: border-box\; margin: 0px\;"><span style="color:#000000\;"><span style="box-sizing: border-box\;"><span style="box-sizing: border-box\; font-size: 24px\;">Stacey Donato\, Senate District 18</span></span></span></li>\n	<li style="box-sizing: border-box\; margin: 0px\; outline: 0px\;"><span style="color:#000000\;"><span style="box-sizing: border-box\;"><span style="box-sizing: border-box\; font-size: 24px\;">Jim Buck\, Senate District 21</span></span></span></li>\n</ul>\n<span style="color:#000000\;"><span style="box-sizing: border-box\; font-family: Arial\, Helvetica\, sans-serif\;"><span style="box-sizing: border-box\; font-size: 24px\;">This event is open the public and is&nbsp\; hosted at Indiana University Kokomo&#39\;s Kresge Auditorium.&nbsp\;</span></span></span><span style="box-sizing: border-box\; color: rgb(128\, 128\, 128)\; font-family: Arial\, Helvetica\, sans-serif\;"><span style="box-sizing: border-box\; font-size: 24px\;">&nbsp\;</span></span>
LOCATION:Indiana University Kokomo\, Kresge Auditorium 2300 S. Washington Street\, Kokomo
UID:e.2199.2429
SEQUENCE:3
DTSTAMP:20260421T213131Z
URL:http://greaterkokomo.chambermaster.com/events/details/third-house-session-2429
END:VEVENT

END:VCALENDAR
