BEGIN:VCALENDAR
VERSION:2.0
PRODID:-//ChamberMaster//Event Calendar 2.0//EN
METHOD:PUBLISH
X-PUBLISHED-TTL:P3D
REFRESH-INTERVAL:P3D
CALSCALE:GREGORIAN
BEGIN:VEVENT
DTSTART:20250423T140000Z
DTEND:20250423T150000Z
X-MICROSOFT-CDO-ALLDAYEVENT:FALSE
SUMMARY:Duke Energy’s Charger Solution Program Information Session
DESCRIPTION:Discover the benefits of installing EV chargers at your business. Duke Energy's worry-free EV charger rental program makes it easy.\n\n\n\nWhether you're a business\, apartment complex or public entity\, Duke Energy's Charger Solution program provides customers with EV charger rentals that include the cost of installation\, warranty and maintenance.\n\nJoin us for:\n\n  Information about the Charger Solution program\n\n  Charger options and steps to apply\n\n  Benefits of installing EV chargers\, like attracting customers and highlighting sustainability efforts\n\n  Panel discussion and Q&A session\n\n  Light refreshments will be provided\n\n\n\nInterested but can't join in person? This event will also be streamed on Zoom for virtual admission.\n\n\n\nTime: Apr 23\, 2025 10:00 AM Eastern Time (US and Canada)\n\nJoin Zoom Meeting\n\nhttps://us02web.zoom.us/j/88094629186?pwd=TYPd6D23TaTHxPaPglLmhpEzThgo96.1\n\n \n\nMeeting ID: 880 9462 9186\n\nPasscode: 420729
X-ALT-DESC;FMTTYPE=text/html:<br />\n<br />\n<span style="font-size:22px\;"><span style="color:#000000\;">Discover the benefits of installing EV chargers at your business. Duke Energy&rsquo\;s worry-free EV charger rental program makes it easy.<br />\n<br />\nWhether you&rsquo\;re a business\, apartment complex or public entity\, Duke Energy&rsquo\;s Charger Solution program provides customers with EV charger rentals that include the cost of installation\, warranty and maintenance.<br />\nJoin us for:<br />\n&bull\; Information about the Charger Solution program<br />\n&bull\; Charger options and steps to apply<br />\n&bull\; Benefits of installing EV chargers\, like attracting customers and highlighting sustainability efforts<br />\n&bull\; Panel discussion and Q&amp\;A session<br />\n&bull\; Light refreshments will be provided<br />\n<br />\nInterested but can&rsquo\;t join in person? This event will also be streamed on Zoom for virtual admission.<br />\n<br />\nTime: Apr 23\, 2025 10:00 AM Eastern Time (US and Canada)<br />\nJoin Zoom Meeting</span><br />\n<a href="https://nam12.safelinks.protection.outlook.com/?url=https%3A%2F%2Fus02web.zoom.us%2Fj%2F88094629186%3Fpwd%3DTYPd6D23TaTHxPaPglLmhpEzThgo96.1&amp\;data=05%7C02%7Cmcardenas%40greaterkokomo.com%7Cf30c02bb43eb49b4401408dd6ba4d1cf%7C3f020ffbf8e943128bdca1a25c63f6e9%7C0%7C0%7C638785077819800851%7CUnknown%7CTWFpbGZsb3d8eyJFbXB0eU1hcGkiOnRydWUsIlYiOiIwLjAuMDAwMCIsIlAiOiJXaW4zMiIsIkFOIjoiTWFpbCIsIldUIjoyfQ%3D%3D%7C0%7C%7C%7C&amp\;sdata=Dm5AytJcAVryPAKE%2FNMbvBcXNfPhj8G0DAojpJLqVrk%3D&amp\;reserved=0"><span style="color:#000000\;">https://us02web.zoom.us/j/88094629186?pwd=TYPd6D23TaTHxPaPglLmhpEzThgo96.1</span></a><br />\n<span style="color:#000000\;">&nbsp\;<br />\nMeeting ID: 880 9462 9186<br />\nPasscode: 420729</span></span><br />\n&nbsp\;
LOCATION:Inventrek Conference Room 2A 700 E. Firmin St.
UID:e.2199.2495
SEQUENCE:3
DTSTAMP:20260421T143252Z
URL:http://greaterkokomo.chambermaster.com/events/details/duke-energy-s-charger-solution-program-information-session-2495
END:VEVENT

END:VCALENDAR
